BEGIN:VCALENDAR
VERSION:2.0
PRODID:-//Holsthum - ECPv6.15.20//NONSGML v1.0//EN
CALSCALE:GREGORIAN
METHOD:PUBLISH
X-WR-CALNAME:Holsthum
X-ORIGINAL-URL:https://holsthum.de
X-WR-CALDESC:Veranstaltungen für Holsthum
REFRESH-INTERVAL;VALUE=DURATION:PT1H
X-Robots-Tag:noindex
X-PUBLISHED-TTL:PT1H
BEGIN:VTIMEZONE
TZID:Europe/Brussels
BEGIN:DAYLIGHT
TZOFFSETFROM:+0100
TZOFFSETTO:+0200
TZNAME:CEST
DTSTART:20250330T010000
END:DAYLIGHT
BEGIN:STANDARD
TZOFFSETFROM:+0200
TZOFFSETTO:+0100
TZNAME:CET
DTSTART:20251026T010000
END:STANDARD
BEGIN:DAYLIGHT
TZOFFSETFROM:+0100
TZOFFSETTO:+0200
TZNAME:CEST
DTSTART:20260329T010000
END:DAYLIGHT
BEGIN:STANDARD
TZOFFSETFROM:+0200
TZOFFSETTO:+0100
TZNAME:CET
DTSTART:20261025T010000
END:STANDARD
BEGIN:DAYLIGHT
TZOFFSETFROM:+0100
TZOFFSETTO:+0200
TZNAME:CEST
DTSTART:20270328T010000
END:DAYLIGHT
BEGIN:STANDARD
TZOFFSETFROM:+0200
TZOFFSETTO:+0100
TZNAME:CET
DTSTART:20271031T010000
END:STANDARD
END:VTIMEZONE
BEGIN:VEVENT
DTSTART;TZID=Europe/Brussels:20260621T000000
DTEND;TZID=Europe/Brussels:20260621T235959
DTSTAMP:20260422T200713
CREATED:20260218T145441Z
LAST-MODIFIED:20260218T151524Z
UID:1550-1782000000-1782086399@holsthum.de
SUMMARY:Wanderung
DESCRIPTION:
URL:https://holsthum.de/kalender/wanderung-5
ORGANIZER;CN="B%C3%BCrgerverein Holsthum e. V.":MAILTO:buergerverein@holsthum.de
END:VEVENT
BEGIN:VEVENT
DTSTART;TZID=Europe/Brussels:20260624T000000
DTEND;TZID=Europe/Brussels:20260624T235959
DTSTAMP:20260422T200713
CREATED:20260218T145249Z
LAST-MODIFIED:20260218T145250Z
UID:1543-1782259200-1782345599@holsthum.de
SUMMARY:Spiel- und Grillfest auf dem Bolzplatz
DESCRIPTION:
URL:https://holsthum.de/kalender/spiel-und-grillfest-auf-dem-bolzplatz-4
END:VEVENT
BEGIN:VEVENT
DTSTART;TZID=Europe/Brussels:20260703T000000
DTEND;TZID=Europe/Brussels:20260703T235959
DTSTAMP:20260422T200713
CREATED:20260218T145359Z
LAST-MODIFIED:20260218T145412Z
UID:1547-1783036800-1783123199@holsthum.de
SUMMARY:Aktiv Tag
DESCRIPTION:
URL:https://holsthum.de/kalender/aktiv-tag-4
ORGANIZER;CN="B%C3%BCrgerverein Holsthum e. V.":MAILTO:buergerverein@holsthum.de
END:VEVENT
BEGIN:VEVENT
DTSTART;TZID=Europe/Brussels:20260703T000000
DTEND;TZID=Europe/Brussels:20260703T235959
DTSTAMP:20260422T200713
CREATED:20260218T145521Z
LAST-MODIFIED:20260218T145523Z
UID:1552-1783036800-1783123199@holsthum.de
SUMMARY:Jahreshauptversammlung Sportverein
DESCRIPTION:
URL:https://holsthum.de/kalender/jahreshauptversammlung-sportverein
ORGANIZER;CN="Sportverein DJK Pr%C3%BCm-Enz e.V.":MAILTO:bschramer83@googlemail.com
END:VEVENT
BEGIN:VEVENT
DTSTART;TZID=Europe/Brussels:20260703T000000
DTEND;TZID=Europe/Brussels:20260705T235959
DTSTAMP:20260422T200713
CREATED:20260218T145610Z
LAST-MODIFIED:20260218T145612Z
UID:1554-1783036800-1783295999@holsthum.de
SUMMARY:Zeltlager Angelverein
DESCRIPTION:
URL:https://holsthum.de/kalender/zeltlager-angelverein
ORGANIZER;CN="Angelverein Holsthum e. V.":MAILTO:vorstand@av-holsthum.de
END:VEVENT
BEGIN:VEVENT
DTSTART;TZID=Europe/Brussels:20260719T000000
DTEND;TZID=Europe/Brussels:20260719T235959
DTSTAMP:20260422T200713
CREATED:20260218T145650Z
LAST-MODIFIED:20260218T145652Z
UID:1556-1784419200-1784505599@holsthum.de
SUMMARY:Wanderung
DESCRIPTION:
URL:https://holsthum.de/kalender/wanderung-6
ORGANIZER;CN="B%C3%BCrgerverein Holsthum e. V.":MAILTO:buergerverein@holsthum.de
END:VEVENT
BEGIN:VEVENT
DTSTART;TZID=Europe/Brussels:20260809T000000
DTEND;TZID=Europe/Brussels:20260809T235959
DTSTAMP:20260422T200713
CREATED:20260218T145724Z
LAST-MODIFIED:20260218T145725Z
UID:1558-1786233600-1786319999@holsthum.de
SUMMARY:Wanderung
DESCRIPTION:
URL:https://holsthum.de/kalender/wanderung-7
ORGANIZER;CN="B%C3%BCrgerverein Holsthum e. V.":MAILTO:buergerverein@holsthum.de
END:VEVENT
BEGIN:VEVENT
DTSTART;TZID=Europe/Brussels:20260815T000000
DTEND;TZID=Europe/Brussels:20260817T235959
DTSTAMP:20260422T200713
CREATED:20260218T145802Z
LAST-MODIFIED:20260218T145805Z
UID:1560-1786752000-1787011199@holsthum.de
SUMMARY:Kirmes
DESCRIPTION:
URL:https://holsthum.de/kalender/kirmes
END:VEVENT
BEGIN:VEVENT
DTSTART;TZID=Europe/Brussels:20260816T000000
DTEND;TZID=Europe/Brussels:20260816T235959
DTSTAMP:20260422T200714
CREATED:20260218T145848Z
LAST-MODIFIED:20260218T145849Z
UID:1562-1786838400-1786924799@holsthum.de
SUMMARY:Kinderkirmes auf dem Kruibekerplatz
DESCRIPTION:
URL:https://holsthum.de/kalender/kinderkirmes-auf-dem-kruibekerplatz
LOCATION:Kruibekerplatz\, Kruibekerplatz\, Holsthum\, RLP\, 54668\, Deutschland
ORGANIZER;CN="B%C3%BCrgerverein Holsthum e. V.":MAILTO:buergerverein@holsthum.de
END:VEVENT
BEGIN:VEVENT
DTSTART;TZID=Europe/Brussels:20260822T000000
DTEND;TZID=Europe/Brussels:20260822T235959
DTSTAMP:20260422T200714
CREATED:20260218T145943Z
LAST-MODIFIED:20260218T145944Z
UID:1564-1787356800-1787443199@holsthum.de
SUMMARY:Weinprobe auf der Römischen Villa
DESCRIPTION:
URL:https://holsthum.de/kalender/weinprobe-auf-der-roemischen-villa
LOCATION:Römische Villa\, Römischen Villa\, Holsthum\, RLP\, 54668\, Deutschland
ORGANIZER;CN="F%C3%B6rderverein Geschichte und Kultur Holsthum e.V.":MAILTO:mechthild.kohl_heck@web.de
END:VEVENT
BEGIN:VEVENT
DTSTART;TZID=Europe/Brussels:20260904T000000
DTEND;TZID=Europe/Brussels:20260904T235959
DTSTAMP:20260422T200714
CREATED:20260218T150018Z
LAST-MODIFIED:20260218T151614Z
UID:1566-1788480000-1788566399@holsthum.de
SUMMARY:Aktiv Tag
DESCRIPTION:
URL:https://holsthum.de/kalender/aktiv-tag-5
ORGANIZER;CN="B%C3%BCrgerverein Holsthum e. V.":MAILTO:buergerverein@holsthum.de
END:VEVENT
BEGIN:VEVENT
DTSTART;TZID=Europe/Brussels:20260906T000000
DTEND;TZID=Europe/Brussels:20260906T235959
DTSTAMP:20260422T200714
CREATED:20260218T150056Z
LAST-MODIFIED:20260218T150058Z
UID:1568-1788652800-1788739199@holsthum.de
SUMMARY:Wanderung
DESCRIPTION:
URL:https://holsthum.de/kalender/wanderung-8
ORGANIZER;CN="B%C3%BCrgerverein Holsthum e. V.":MAILTO:buergerverein@holsthum.de
END:VEVENT
BEGIN:VEVENT
DTSTART;TZID=Europe/Brussels:20260913T000000
DTEND;TZID=Europe/Brussels:20260913T235959
DTSTAMP:20260422T200714
CREATED:20260218T150139Z
LAST-MODIFIED:20260218T150141Z
UID:1570-1789257600-1789343999@holsthum.de
SUMMARY:Klausenfest mit Kaffee und Kuchen
DESCRIPTION:
URL:https://holsthum.de/kalender/klausenfest-mit-kaffee-und-kuchen
LOCATION:Schankweiler-Klause\, Schankweiler Klause\, Schankweiler\, 54668\, Deutschland
END:VEVENT
BEGIN:VEVENT
DTSTART;TZID=Europe/Brussels:20261002T000000
DTEND;TZID=Europe/Brussels:20261002T235959
DTSTAMP:20260422T200714
CREATED:20260218T150210Z
LAST-MODIFIED:20260218T150342Z
UID:1572-1790899200-1790985599@holsthum.de
SUMMARY:Aktiv Tag
DESCRIPTION:
URL:https://holsthum.de/kalender/aktiv-tag-6
ORGANIZER;CN="B%C3%BCrgerverein Holsthum e. V.":MAILTO:buergerverein@holsthum.de
END:VEVENT
BEGIN:VEVENT
DTSTART;TZID=Europe/Brussels:20261004T000000
DTEND;TZID=Europe/Brussels:20261004T235959
DTSTAMP:20260422T200714
CREATED:20260218T150436Z
LAST-MODIFIED:20260218T150438Z
UID:1576-1791072000-1791158399@holsthum.de
SUMMARY:Wanderung
DESCRIPTION:
URL:https://holsthum.de/kalender/wanderung-9
ORGANIZER;CN="B%C3%BCrgerverein Holsthum e. V.":MAILTO:buergerverein@holsthum.de
END:VEVENT
BEGIN:VEVENT
DTSTART;TZID=Europe/Brussels:20261106T000000
DTEND;TZID=Europe/Brussels:20261106T235959
DTSTAMP:20260422T200714
CREATED:20260218T150248Z
LAST-MODIFIED:20260218T150250Z
UID:1574-1793923200-1794009599@holsthum.de
SUMMARY:Aktiv Tag
DESCRIPTION:
URL:https://holsthum.de/kalender/aktiv-tag-7
ORGANIZER;CN="B%C3%BCrgerverein Holsthum e. V.":MAILTO:buergerverein@holsthum.de
END:VEVENT
BEGIN:VEVENT
DTSTART;TZID=Europe/Brussels:20261108T000000
DTEND;TZID=Europe/Brussels:20261108T235959
DTSTAMP:20260422T200714
CREATED:20260218T150508Z
LAST-MODIFIED:20260218T150509Z
UID:1578-1794096000-1794182399@holsthum.de
SUMMARY:Wanderung
DESCRIPTION:
URL:https://holsthum.de/kalender/wanderung-10
ORGANIZER;CN="B%C3%BCrgerverein Holsthum e. V.":MAILTO:buergerverein@holsthum.de
END:VEVENT
BEGIN:VEVENT
DTSTART;TZID=Europe/Brussels:20261113T000000
DTEND;TZID=Europe/Brussels:20261113T235959
DTSTAMP:20260422T200714
CREATED:20260218T150552Z
LAST-MODIFIED:20260218T150554Z
UID:1580-1794528000-1794614399@holsthum.de
SUMMARY:Sankt Martin
DESCRIPTION:
URL:https://holsthum.de/kalender/sankt-martin
END:VEVENT
BEGIN:VEVENT
DTSTART;TZID=Europe/Brussels:20261122T000000
DTEND;TZID=Europe/Brussels:20261122T235959
DTSTAMP:20260422T200714
CREATED:20260218T150701Z
LAST-MODIFIED:20260218T150703Z
UID:1582-1795305600-1795391999@holsthum.de
SUMMARY:Jahreshauptversammlung Geschichte und Kultur mit                        anschließender Info-Veranstaltung
DESCRIPTION:
URL:https://holsthum.de/kalender/jahreshauptversammlung-geschichte-und-kultur-mit-anschliessender-in
ORGANIZER;CN="F%C3%B6rderverein Geschichte und Kultur Holsthum e.V.":MAILTO:mechthild.kohl_heck@web.de
END:VEVENT
BEGIN:VEVENT
DTSTART;TZID=Europe/Brussels:20261129T000000
DTEND;TZID=Europe/Brussels:20261129T235959
DTSTAMP:20260422T200714
CREATED:20260218T150739Z
LAST-MODIFIED:20260218T150741Z
UID:1584-1795910400-1795996799@holsthum.de
SUMMARY:Jahresabschlusswanderung
DESCRIPTION:
URL:https://holsthum.de/kalender/jahresabschlusswanderung
ORGANIZER;CN="B%C3%BCrgerverein Holsthum e. V.":MAILTO:buergerverein@holsthum.de
END:VEVENT
BEGIN:VEVENT
DTSTART;TZID=Europe/Brussels:20261129T000000
DTEND;TZID=Europe/Brussels:20261129T235959
DTSTAMP:20260422T200714
CREATED:20260218T150812Z
LAST-MODIFIED:20260218T150814Z
UID:1586-1795910400-1795996799@holsthum.de
SUMMARY:Beginn Adventskalender
DESCRIPTION:
URL:https://holsthum.de/kalender/beginn-adventskalender
ORGANIZER;CN="B%C3%BCrgerverein Holsthum e. V.":MAILTO:buergerverein@holsthum.de
END:VEVENT
BEGIN:VEVENT
DTSTART;TZID=Europe/Brussels:20261209T000000
DTEND;TZID=Europe/Brussels:20261209T235959
DTSTAMP:20260422T200714
CREATED:20260218T150858Z
LAST-MODIFIED:20260218T150900Z
UID:1588-1796774400-1796860799@holsthum.de
SUMMARY:Ratssitzung
DESCRIPTION:
URL:https://holsthum.de/kalender/ratssitzung
ORGANIZER;CN="Gemeinde Holsthum":MAILTO:Holsthum-mail@t-online.de
END:VEVENT
BEGIN:VEVENT
DTSTART;TZID=Europe/Brussels:20261213T000000
DTEND;TZID=Europe/Brussels:20261213T235959
DTSTAMP:20260422T200714
CREATED:20260218T150937Z
LAST-MODIFIED:20260218T150938Z
UID:1590-1797120000-1797206399@holsthum.de
SUMMARY:Waldbegang
DESCRIPTION:
URL:https://holsthum.de/kalender/waldbegang
ORGANIZER;CN="Gemeinde Holsthum":MAILTO:Holsthum-mail@t-online.de
END:VEVENT
END:VCALENDAR