BEGIN:VCALENDAR
VERSION:2.0
PRODID:-//Holsthum - ECPv6.15.20//NONSGML v1.0//EN
CALSCALE:GREGORIAN
METHOD:PUBLISH
X-WR-CALNAME:Holsthum
X-ORIGINAL-URL:https://holsthum.de
X-WR-CALDESC:Veranstaltungen für Holsthum
REFRESH-INTERVAL;VALUE=DURATION:PT1H
X-Robots-Tag:noindex
X-PUBLISHED-TTL:PT1H
BEGIN:VTIMEZONE
TZID:Europe/Brussels
BEGIN:DAYLIGHT
TZOFFSETFROM:+0100
TZOFFSETTO:+0200
TZNAME:CEST
DTSTART:20250330T010000
END:DAYLIGHT
BEGIN:STANDARD
TZOFFSETFROM:+0200
TZOFFSETTO:+0100
TZNAME:CET
DTSTART:20251026T010000
END:STANDARD
BEGIN:DAYLIGHT
TZOFFSETFROM:+0100
TZOFFSETTO:+0200
TZNAME:CEST
DTSTART:20260329T010000
END:DAYLIGHT
BEGIN:STANDARD
TZOFFSETFROM:+0200
TZOFFSETTO:+0100
TZNAME:CET
DTSTART:20261025T010000
END:STANDARD
BEGIN:DAYLIGHT
TZOFFSETFROM:+0100
TZOFFSETTO:+0200
TZNAME:CEST
DTSTART:20270328T010000
END:DAYLIGHT
BEGIN:STANDARD
TZOFFSETFROM:+0200
TZOFFSETTO:+0100
TZNAME:CET
DTSTART:20271031T010000
END:STANDARD
END:VTIMEZONE
BEGIN:VEVENT
DTSTART;TZID=Europe/Brussels:20260514T000000
DTEND;TZID=Europe/Brussels:20260514T235959
DTSTAMP:20260422T202513
CREATED:20260218T144806Z
LAST-MODIFIED:20260218T144808Z
UID:1529-1778716800-1778803199@holsthum.de
SUMMARY:Vatertagsfest auf dem Kruibekerplatz
DESCRIPTION:
URL:https://holsthum.de/kalender/vatertagsfest-auf-dem-kruibekerplatz
LOCATION:Kruibekerplatz\, Kruibekerplatz\, Holsthum\, RLP\, 54668\, Deutschland
END:VEVENT
END:VCALENDAR